BEGIN:VCALENDAR
VERSION:2.0
PRODID:-//EventAgenda//eventagenda.com//NL
CALSCALE:GREGORIAN
METHOD:PUBLISH
X-WR-CALNAME:Events — "AI Infrastructure Conference"
X-WR-CALDESC:Events — "AI Infrastructure Conference" — automatisch bijgewer
 kt via EventAgenda. Open infrastructuur voor event-data.
REFRESH-INTERVAL;VALUE=DURATION:PT60M
X-PUBLISHED-TTL:PT60M
BEGIN:VEVENT
UID:e-ai-conference-rai-2@eventagenda.com
DTSTAMP:20260425T025247Z
DTSTART:20260605T090000Z
DTEND:20260605T170000Z
SUMMARY:AI Infrastructure Conference
LOCATION:RAI Amsterdam\, Europaplein 24\, amsterdam
DESCRIPTION:Hardware\, modellen\, deploy-patronen. Drie dagen.\n\nhttps://e
 ventagenda.com/events/ai-conference-rai-2
URL:https://eventagenda.com/events/ai-conference-rai-2
STATUS:CONFIRMED
CATEGORIES:Zakelijk
GEO:52.341;4.889
END:VEVENT
END:VCALENDAR
