BEGIN:VCALENDAR
VERSION:2.0
PRODID:-//EventAgenda//eventagenda.com//NL
CALSCALE:GREGORIAN
METHOD:PUBLISH
X-WR-CALNAME:Events — "AI Summit Amsterdam — keynote Sam Altman"
X-WR-CALDESC:Events — "AI Summit Amsterdam — keynote Sam Altman" — automati
 sch bijgewerkt via EventAgenda. Open infrastructuur voor event-data.
REFRESH-INTERVAL;VALUE=DURATION:PT60M
X-PUBLISHED-TTL:PT60M
BEGIN:VEVENT
UID:e-sam-altman-rai@eventagenda.com
DTSTAMP:20260425T005726Z
DTSTART:20260502T100000Z
DTEND:20260502T180000Z
SUMMARY:AI Summit Amsterdam — keynote Sam Altman
LOCATION:RAI Amsterdam\, Europaplein 24\, amsterdam
DESCRIPTION:Gesloten keynote over de volgende generatie modellen\, gevolgd 
 door panel.\n\nLine-up: Sam Altman\n\nhttps://eventagenda.com/events/sam-a
 ltman-rai
URL:https://eventagenda.com/events/sam-altman-rai
STATUS:CONFIRMED
CATEGORIES:Zakelijk
GEO:52.341;4.889
END:VEVENT
END:VCALENDAR
