BEGIN:VCALENDAR
VERSION:2.0
PRODID:-//EventAgenda//eventagenda.com//NL
CALSCALE:GREGORIAN
METHOD:PUBLISH
X-WR-CALNAME:Events — "Ahoy House Nacht"
X-WR-CALDESC:Events — "Ahoy House Nacht" — automatisch bijgewerkt via Event
 Agenda. Open infrastructuur voor event-data.
REFRESH-INTERVAL;VALUE=DURATION:PT60M
X-PUBLISHED-TTL:PT60M
BEGIN:VEVENT
UID:e-house-ahoy@eventagenda.com
DTSTAMP:20260425T005727Z
DTSTART:20260505T220000Z
DTEND:20260506T060000Z
SUMMARY:Ahoy House Nacht
LOCATION:Rotterdam Ahoy\, Ahoyweg 10\, rotterdam
DESCRIPTION:Meerdere DJ's\, verschillende zalen\, één nacht.\n\nhttps://eve
 ntagenda.com/events/house-ahoy
URL:https://eventagenda.com/events/house-ahoy
STATUS:CONFIRMED
CATEGORIES:Electronic
GEO:51.8856;4.488
END:VEVENT
END:VCALENDAR
