BEGIN:VCALENDAR
VERSION:2.0
PRODID:-//EventAgenda//eventagenda.com//NL
CALSCALE:GREGORIAN
METHOD:PUBLISH
X-WR-CALNAME:Events — "Ajax — Feyenoord (De Klassieker)"
X-WR-CALDESC:Events — "Ajax — Feyenoord (De Klassieker)" — automatisch bijg
 ewerkt via EventAgenda. Open infrastructuur voor event-data.
REFRESH-INTERVAL;VALUE=DURATION:PT60M
X-PUBLISHED-TTL:PT60M
BEGIN:VEVENT
UID:e-ajax-feyenoord-klassieker@eventagenda.com
DTSTAMP:20260425T005843Z
DTSTART:20260427T140000Z
DTEND:20260427T160000Z
SUMMARY:Ajax — Feyenoord (De Klassieker)
LOCATION:Johan Cruijff ArenA\, ArenA Boulevard 1\, amsterdam
DESCRIPTION:De belangrijkste wedstrijd van het seizoen.\n\nLine-up: AFC Aja
 x\, Feyenoord\n\nhttps://eventagenda.com/events/ajax-feyenoord-klassieker
URL:https://eventagenda.com/events/ajax-feyenoord-klassieker
STATUS:CONFIRMED
CATEGORIES:Sport
GEO:52.3143;4.942
END:VEVENT
END:VCALENDAR
