BEGIN:VCALENDAR
VERSION:2.0
PRODID:-//EventAgenda//eventagenda.com//NL
CALSCALE:GREGORIAN
METHOD:PUBLISH
X-WR-CALNAME:Events — "Ajax — PSV"
X-WR-CALDESC:Events — "Ajax — PSV" — automatisch bijgewerkt via EventAgenda
 . Open infrastructuur voor event-data.
REFRESH-INTERVAL;VALUE=DURATION:PT60M
X-PUBLISHED-TTL:PT60M
BEGIN:VEVENT
UID:e-ajax-volgende-thuis@eventagenda.com
DTSTAMP:20260425T024715Z
DTSTART:20260515T200000Z
DTEND:20260515T220000Z
SUMMARY:Ajax — PSV
LOCATION:Johan Cruijff ArenA\, ArenA Boulevard 1\, amsterdam
DESCRIPTION:Eredivisie topper.\n\nLine-up: AFC Ajax\n\nhttps://eventagenda.
 com/events/ajax-volgende-thuis
URL:https://eventagenda.com/events/ajax-volgende-thuis
STATUS:CONFIRMED
CATEGORIES:Sport
GEO:52.3143;4.942
END:VEVENT
END:VCALENDAR
