BEGIN:VCALENDAR
VERSION:2.0
PRODID:-//EventAgenda//eventagenda.com//NL
CALSCALE:GREGORIAN
METHOD:PUBLISH
X-WR-CALNAME:Events — "Amsterdam Startup Pitch Night"
X-WR-CALDESC:Events — "Amsterdam Startup Pitch Night" — automatisch bijgewe
 rkt via EventAgenda. Open infrastructuur voor event-data.
REFRESH-INTERVAL;VALUE=DURATION:PT60M
X-PUBLISHED-TTL:PT60M
BEGIN:VEVENT
UID:e-startup-pitch-rai@eventagenda.com
DTSTAMP:20260425T025445Z
DTSTART:20260522T190000Z
DTEND:20260522T220000Z
SUMMARY:Amsterdam Startup Pitch Night
LOCATION:RAI Amsterdam\, Europaplein 24\, amsterdam
DESCRIPTION:15 startups\, 5 minuten elk\, één jury.\n\nhttps://eventagenda.
 com/events/startup-pitch-rai
URL:https://eventagenda.com/events/startup-pitch-rai
STATUS:CONFIRMED
CATEGORIES:Zakelijk
GEO:52.341;4.889
END:VEVENT
END:VCALENDAR
