BEGIN:VCALENDAR
VERSION:2.0
PRODID:-//EventAgenda//eventagenda.com//NL
CALSCALE:GREGORIAN
METHOD:PUBLISH
X-WR-CALNAME:Events — "Brené Brown — Daring Leadership"
X-WR-CALDESC:Events — "Brené Brown — Daring Leadership" — automatisch bijge
 werkt via EventAgenda. Open infrastructuur voor event-data.
REFRESH-INTERVAL;VALUE=DURATION:PT60M
X-PUBLISHED-TTL:PT60M
BEGIN:VEVENT
UID:e-brene-brown-rai@eventagenda.com
DTSTAMP:20260425T025318Z
DTSTART:20260511T130000Z
DTEND:20260511T170000Z
SUMMARY:Brené Brown — Daring Leadership
LOCATION:RAI Amsterdam\, Europaplein 24\, amsterdam
DESCRIPTION:Keynote + workshop over moedige leiders.\n\nLine-up: Brené Brow
 n\n\nhttps://eventagenda.com/events/brene-brown-rai
URL:https://eventagenda.com/events/brene-brown-rai
STATUS:CONFIRMED
CATEGORIES:Zakelijk
GEO:52.341;4.889
END:VEVENT
END:VCALENDAR
