BEGIN:VCALENDAR
VERSION:2.0
PRODID:-//EventAgenda//eventagenda.com//NL
CALSCALE:GREGORIAN
METHOD:PUBLISH
X-WR-CALNAME:Events — "Claudia de Breij — Solo"
X-WR-CALDESC:Events — "Claudia de Breij — Solo" — automatisch bijgewerkt vi
 a EventAgenda. Open infrastructuur voor event-data.
REFRESH-INTERVAL;VALUE=DURATION:PT60M
X-PUBLISHED-TTL:PT60M
BEGIN:VEVENT
UID:e-claudia-de-breij-solo@eventagenda.com
DTSTAMP:20260425T005838Z
DTSTART:20260503T200000Z
DTEND:20260503T220000Z
SUMMARY:Claudia de Breij — Solo
LOCATION:Internationaal Theater Amsterdam\, Leidseplein 26\, amsterdam
DESCRIPTION:Intieme show\, eigen nummers en monologen.\n\nLine-up: Claudia 
 de Breij\n\nhttps://eventagenda.com/events/claudia-de-breij-solo
URL:https://eventagenda.com/events/claudia-de-breij-solo
STATUS:CONFIRMED
CATEGORIES:Theater
GEO:52.3638;4.8817
END:VEVENT
END:VCALENDAR
