BEGIN:VCALENDAR
VERSION:2.0
PRODID:-//EventAgenda//eventagenda.com//NL
CALSCALE:GREGORIAN
METHOD:PUBLISH
X-WR-CALNAME:Events — "Diggy Dex — 20 Jaar Jubileumshow"
X-WR-CALDESC:Events — "Diggy Dex — 20 Jaar Jubileumshow" — automatisch bijg
 ewerkt via EventAgenda. Open infrastructuur voor event-data.
REFRESH-INTERVAL;VALUE=DURATION:PT60M
X-PUBLISHED-TTL:PT60M
BEGIN:VEVENT
UID:e-diggy-dex-ziggo@eventagenda.com
DTSTAMP:20260425T005843Z
DTSTART:20260428T200000Z
DTEND:20260428T220000Z
SUMMARY:Diggy Dex — 20 Jaar Jubileumshow
LOCATION:Ziggo Dome\, De Passage 100\, amsterdam
DESCRIPTION:Alle hits van twee decennia\, met live band.\n\nLine-up: Diggy 
 Dex\n\nhttps://eventagenda.com/events/diggy-dex-ziggo
URL:https://eventagenda.com/events/diggy-dex-ziggo
STATUS:CONFIRMED
CATEGORIES:Muziek
GEO:52.3122;4.9374
END:VEVENT
END:VCALENDAR
