BEGIN:VCALENDAR
VERSION:2.0
PRODID:-//EventAgenda//eventagenda.com//NL
CALSCALE:GREGORIAN
METHOD:PUBLISH
X-WR-CALNAME:Events — "Doelen Jazz Sessions"
X-WR-CALDESC:Events — "Doelen Jazz Sessions" — automatisch bijgewerkt via E
 ventAgenda. Open infrastructuur voor event-data.
REFRESH-INTERVAL;VALUE=DURATION:PT60M
X-PUBLISHED-TTL:PT60M
BEGIN:VEVENT
UID:e-jazz-at-bimhuis@eventagenda.com
DTSTAMP:20260425T005656Z
DTSTART:20260430T200000Z
DTEND:20260430T230000Z
SUMMARY:Doelen Jazz Sessions
LOCATION:De Doelen\, Schouwburgplein 50\, rotterdam
DESCRIPTION:Jam sessions met internationale top-musici.\n\nhttps://eventage
 nda.com/events/jazz-at-bimhuis
URL:https://eventagenda.com/events/jazz-at-bimhuis
STATUS:CONFIRMED
CATEGORIES:Jazz
GEO:51.9232;4.4719
END:VEVENT
END:VCALENDAR
