BEGIN:VCALENDAR
VERSION:2.0
PRODID:-//EventAgenda//eventagenda.com//NL
CALSCALE:GREGORIAN
METHOD:PUBLISH
X-WR-CALNAME:Events — "Expositie: Nederlandse Meesters Herontdekt"
X-WR-CALDESC:Events — "Expositie: Nederlandse Meesters Herontdekt" — automa
 tisch bijgewerkt via EventAgenda. Open infrastructuur voor event-data.
REFRESH-INTERVAL;VALUE=DURATION:PT60M
X-PUBLISHED-TTL:PT60M
BEGIN:VEVENT
UID:e-expo-kunsthal@eventagenda.com
DTSTAMP:20260425T023336Z
DTSTART:20260510T100000Z
DTEND:20260510T180000Z
SUMMARY:Expositie: Nederlandse Meesters Herontdekt
LOCATION:De Doelen\, Schouwburgplein 50\, rotterdam
DESCRIPTION:Grote overzichtstentoonstelling\, werken uit private collecties
 .\n\nhttps://eventagenda.com/events/expo-kunsthal
URL:https://eventagenda.com/events/expo-kunsthal
STATUS:CONFIRMED
CATEGORIES:Kunst & Expositie
GEO:51.9232;4.4719
END:VEVENT
END:VCALENDAR
