BEGIN:VCALENDAR
VERSION:2.0
PRODID:-//EventAgenda//eventagenda.com//NL
CALSCALE:GREGORIAN
METHOD:PUBLISH
X-WR-CALNAME:Events — "Food Market — Nijmegen Culinair"
X-WR-CALDESC:Events — "Food Market — Nijmegen Culinair" — automatisch bijge
 werkt via EventAgenda. Open infrastructuur voor event-data.
REFRESH-INTERVAL;VALUE=DURATION:PT60M
X-PUBLISHED-TTL:PT60M
BEGIN:VEVENT
UID:e-food-markt-nijmegen@eventagenda.com
DTSTAMP:20260425T025027Z
DTSTART:20260521T120000Z
DTEND:20260521T200000Z
SUMMARY:Food Market — Nijmegen Culinair
LOCATION:Doornroosje\, Stationsplein 11\, nijmegen
DESCRIPTION:30+ restaurants\, een weekend lang.\n\nhttps://eventagenda.com/
 events/food-markt-nijmegen
URL:https://eventagenda.com/events/food-markt-nijmegen
STATUS:CONFIRMED
CATEGORIES:Food & Drinks
GEO:51.845;5.8548
END:VEVENT
END:VCALENDAR
