BEGIN:VCALENDAR
VERSION:2.0
PRODID:-//EventAgenda//eventagenda.com//NL
CALSCALE:GREGORIAN
METHOD:PUBLISH
X-WR-CALNAME:Events — "Fred again.. — Ahoy stadion show"
X-WR-CALDESC:Events — "Fred again.. — Ahoy stadion show" — automatisch bijg
 ewerkt via EventAgenda. Open infrastructuur voor event-data.
REFRESH-INTERVAL;VALUE=DURATION:PT60M
X-PUBLISHED-TTL:PT60M
BEGIN:VEVENT
UID:e-fred-again-ahoy@eventagenda.com
DTSTAMP:20260425T024006Z
DTSTART:20260529T210000Z
DTEND:20260530T000000Z
SUMMARY:Fred again.. — Ahoy stadion show
LOCATION:Rotterdam Ahoy\, Ahoyweg 10\, rotterdam
DESCRIPTION:De grote productie-variant van de tour.\n\nLine-up: Fred again.
 .\n\nhttps://eventagenda.com/events/fred-again-ahoy
URL:https://eventagenda.com/events/fred-again-ahoy
STATUS:CONFIRMED
CATEGORIES:Muziek
GEO:51.8856;4.488
END:VEVENT
END:VCALENDAR
