BEGIN:VCALENDAR
VERSION:2.0
PRODID:-//EventAgenda//eventagenda.com//NL
CALSCALE:GREGORIAN
METHOD:PUBLISH
X-WR-CALNAME:Events — "Fred again.. — intimate live session"
X-WR-CALDESC:Events — "Fred again.. — intimate live session" — automatisch 
 bijgewerkt via EventAgenda. Open infrastructuur voor event-data.
REFRESH-INTERVAL;VALUE=DURATION:PT60M
X-PUBLISHED-TTL:PT60M
BEGIN:VEVENT
UID:e-fred-again-paradiso@eventagenda.com
DTSTAMP:20260425T005522Z
DTSTART:20260424T210000Z
DTEND:20260425T000000Z
SUMMARY:Fred again.. — intimate live session
LOCATION:Paradiso\, Weteringschans 6-8\, amsterdam
DESCRIPTION:Een zeldzame kleine zaal-show. Actual Life materiaal plus nieuw
  werk.\n\nLine-up: Fred again..\n\nhttps://eventagenda.com/events/fred-aga
 in-paradiso
URL:https://eventagenda.com/events/fred-again-paradiso
STATUS:CONFIRMED
CATEGORIES:Muziek
GEO:52.3625;4.8835
END:VEVENT
END:VCALENDAR
