BEGIN:VCALENDAR
VERSION:2.0
PRODID:-//EventAgenda//eventagenda.com//NL
CALSCALE:GREGORIAN
METHOD:PUBLISH
X-WR-CALNAME:Events — "Froukje — Licht en Lucht Tour"
X-WR-CALDESC:Events — "Froukje — Licht en Lucht Tour" — automatisch bijgewe
 rkt via EventAgenda. Open infrastructuur voor event-data.
REFRESH-INTERVAL;VALUE=DURATION:PT60M
X-PUBLISHED-TTL:PT60M
BEGIN:VEVENT
UID:e-froukje-tivoli@eventagenda.com
DTSTAMP:20260425T005844Z
DTSTART:20260426T200000Z
DTEND:20260426T220000Z
SUMMARY:Froukje — Licht en Lucht Tour
LOCATION:TivoliVredenburg\, Vredenburgkade 11\, utrecht
DESCRIPTION:Grote zaal-show rondom haar nieuwste album.\n\nLine-up: Froukje
 \n\nhttps://eventagenda.com/events/froukje-tivoli
URL:https://eventagenda.com/events/froukje-tivoli
STATUS:CONFIRMED
CATEGORIES:Muziek
GEO:52.091;5.119
END:VEVENT
END:VCALENDAR
