BEGIN:VCALENDAR
VERSION:2.0
PRODID:-//EventAgenda//eventagenda.com//NL
CALSCALE:GREGORIAN
METHOD:PUBLISH
X-WR-CALNAME:Events — "Goldband — Max uit het dak tour"
X-WR-CALDESC:Events — "Goldband — Max uit het dak tour" — automatisch bijge
 werkt via EventAgenda. Open infrastructuur voor event-data.
REFRESH-INTERVAL;VALUE=DURATION:PT60M
X-PUBLISHED-TTL:PT60M
BEGIN:VEVENT
UID:e-goldband-melkweg@eventagenda.com
DTSTAMP:20260425T005838Z
DTSTART:20260428T210000Z
DTEND:20260428T230000Z
SUMMARY:Goldband — Max uit het dak tour
LOCATION:Melkweg\, Lijnbaansgracht 234a\, amsterdam
DESCRIPTION:Haagse vibes\, uitverkochte zalen door het hele land.\n\nLine-u
 p: Goldband\n\nhttps://eventagenda.com/events/goldband-melkweg
URL:https://eventagenda.com/events/goldband-melkweg
STATUS:CONFIRMED
CATEGORIES:Muziek
GEO:52.3641;4.8813
END:VEVENT
END:VCALENDAR
