BEGIN:VCALENDAR
VERSION:2.0
PRODID:-//EventAgenda//eventagenda.com//NL
CALSCALE:GREGORIAN
METHOD:PUBLISH
X-WR-CALNAME:Events — "Hans Teeuwen — Nieuwe Theatershow"
X-WR-CALDESC:Events — "Hans Teeuwen — Nieuwe Theatershow" — automatisch bij
 gewerkt via EventAgenda. Open infrastructuur voor event-data.
REFRESH-INTERVAL;VALUE=DURATION:PT60M
X-PUBLISHED-TTL:PT60M
BEGIN:VEVENT
UID:e-hans-teeuwen-stadsschouwburg@eventagenda.com
DTSTAMP:20260425T005726Z
DTSTART:20260429T200000Z
DTEND:20260429T220000Z
SUMMARY:Hans Teeuwen — Nieuwe Theatershow
LOCATION:Internationaal Theater Amsterdam\, Leidseplein 26\, amsterdam
DESCRIPTION:Première van de nieuwe voorstelling.\n\nLine-up: Hans Teeuwen\n
 \nhttps://eventagenda.com/events/hans-teeuwen-stadsschouwburg
URL:https://eventagenda.com/events/hans-teeuwen-stadsschouwburg
STATUS:CONFIRMED
CATEGORIES:Theater
GEO:52.3638;4.8817
END:VEVENT
END:VCALENDAR
