BEGIN:VCALENDAR
VERSION:2.0
PRODID:-//EventAgenda//eventagenda.com//NL
CALSCALE:GREGORIAN
METHOD:PUBLISH
X-WR-CALNAME:Events — "Kraantje Pappie — Grote Zaal"
X-WR-CALDESC:Events — "Kraantje Pappie — Grote Zaal" — automatisch bijgewer
 kt via EventAgenda. Open infrastructuur voor event-data.
REFRESH-INTERVAL;VALUE=DURATION:PT60M
X-PUBLISHED-TTL:PT60M
BEGIN:VEVENT
UID:e-kraantje-pappie-ziggo@eventagenda.com
DTSTAMP:20260425T024736Z
DTSTART:20260509T200000Z
DTEND:20260509T220000Z
SUMMARY:Kraantje Pappie — Grote Zaal
LOCATION:Ziggo Dome\, De Passage 100\, amsterdam
DESCRIPTION:Met gastoptredens.\n\nLine-up: Kraantje Pappie\n\nhttps://event
 agenda.com/events/kraantje-pappie-ziggo
URL:https://eventagenda.com/events/kraantje-pappie-ziggo
STATUS:CONFIRMED
CATEGORIES:Muziek
GEO:52.3122;4.9374
END:VEVENT
END:VCALENDAR
