BEGIN:VCALENDAR
VERSION:2.0
PRODID:-//EventAgenda//eventagenda.com//NL
CALSCALE:GREGORIAN
METHOD:PUBLISH
X-WR-CALNAME:Events — "Nerve — Albumrelease tour"
X-WR-CALDESC:Events — "Nerve — Albumrelease tour" — automatisch bijgewerkt 
 via EventAgenda. Open infrastructuur voor event-data.
REFRESH-INTERVAL;VALUE=DURATION:PT60M
X-PUBLISHED-TTL:PT60M
BEGIN:VEVENT
UID:e-nerve-doornroosje@eventagenda.com
DTSTAMP:20260425T025002Z
DTSTART:20260508T210000Z
DTEND:20260508T230000Z
SUMMARY:Nerve — Albumrelease tour
LOCATION:Doornroosje\, Stationsplein 11\, nijmegen
DESCRIPTION:Releaseshow van het tweede album.\n\nLine-up: Nerve\n\nhttps://
 eventagenda.com/events/nerve-doornroosje
URL:https://eventagenda.com/events/nerve-doornroosje
STATUS:CONFIRMED
CATEGORIES:Muziek
GEO:51.845;5.8548
END:VEVENT
END:VCALENDAR
