BEGIN:VCALENDAR
VERSION:2.0
PRODID:-//EventAgenda//eventagenda.com//NL
CALSCALE:GREGORIAN
METHOD:PUBLISH
X-WR-CALNAME:Events — "Openair Techno — Het Twiske"
X-WR-CALDESC:Events — "Openair Techno — Het Twiske" — automatisch bijgewerk
 t via EventAgenda. Open infrastructuur voor event-data.
REFRESH-INTERVAL;VALUE=DURATION:PT60M
X-PUBLISHED-TTL:PT60M
BEGIN:VEVENT
UID:e-techno-openair@eventagenda.com
DTSTAMP:20260425T022846Z
DTSTART:20260517T120000Z
DTEND:20260517T220000Z
SUMMARY:Openair Techno — Het Twiske
LOCATION:De School\, Doctor Jan van Breemenstraat 1\, amsterdam
DESCRIPTION:Dag-tot-avond in het groen.\n\nLine-up: Charlotte de Witte\n\nh
 ttps://eventagenda.com/events/techno-openair
URL:https://eventagenda.com/events/techno-openair
STATUS:CONFIRMED
CATEGORIES:Electronic
GEO:52.3583;4.846
END:VEVENT
END:VCALENDAR
