BEGIN:VCALENDAR
VERSION:2.0
PRODID:-//EventAgenda//eventagenda.com//NL
CALSCALE:GREGORIAN
METHOD:PUBLISH
X-WR-CALNAME:Events — "Peter en de Wolf — Familievoorstelling"
X-WR-CALDESC:Events — "Peter en de Wolf — Familievoorstelling" — automatisc
 h bijgewerkt via EventAgenda. Open infrastructuur voor event-data.
REFRESH-INTERVAL;VALUE=DURATION:PT60M
X-PUBLISHED-TTL:PT60M
BEGIN:VEVENT
UID:e-family-theater-effenaar@eventagenda.com
DTSTAMP:20260425T025445Z
DTSTART:20260519T140000Z
DTEND:20260519T150000Z
SUMMARY:Peter en de Wolf — Familievoorstelling
LOCATION:Effenaar\, Dommelstraat 2\, eindhoven
DESCRIPTION:Klassieke familievoorstelling\, geschikt vanaf 6 jaar.\n\nhttps
 ://eventagenda.com/events/family-theater-effenaar
URL:https://eventagenda.com/events/family-theater-effenaar
STATUS:CONFIRMED
CATEGORIES:Theater
GEO:51.44;5.477
END:VEVENT
END:VCALENDAR
