BEGIN:VCALENDAR
VERSION:2.0
PRODID:-//EventAgenda//eventagenda.com//NL
CALSCALE:GREGORIAN
METHOD:PUBLISH
X-WR-CALNAME:Events — "S10 — Eindhoven"
X-WR-CALDESC:Events — "S10 — Eindhoven" — automatisch bijgewerkt via EventA
 genda. Open infrastructuur voor event-data.
REFRESH-INTERVAL;VALUE=DURATION:PT60M
X-PUBLISHED-TTL:PT60M
BEGIN:VEVENT
UID:e-s10-effenaar@eventagenda.com
DTSTAMP:20260425T005656Z
DTSTART:20260504T200000Z
DTEND:20260504T220000Z
SUMMARY:S10 — Eindhoven
LOCATION:Effenaar\, Dommelstraat 2\, eindhoven
DESCRIPTION:Tournee door het land\, stop in Eindhoven.\n\nLine-up: S10\n\nh
 ttps://eventagenda.com/events/s10-effenaar
URL:https://eventagenda.com/events/s10-effenaar
STATUS:CONFIRMED
CATEGORIES:Muziek
GEO:51.44;5.477
END:VEVENT
END:VCALENDAR
