BEGIN:VCALENDAR
VERSION:2.0
PRODID:-//EventAgenda//eventagenda.com//NL
CALSCALE:GREGORIAN
METHOD:PUBLISH
X-WR-CALNAME:Events — "Techno Nacht w/ Charlotte de Witte"
X-WR-CALDESC:Events — "Techno Nacht w/ Charlotte de Witte" — automatisch bi
 jgewerkt via EventAgenda. Open infrastructuur voor event-data.
REFRESH-INTERVAL;VALUE=DURATION:PT60M
X-PUBLISHED-TTL:PT60M
BEGIN:VEVENT
UID:e-techno-nacht-de-school@eventagenda.com
DTSTAMP:20260425T005838Z
DTSTART:20260425T230000Z
DTEND:20260426T060000Z
SUMMARY:Techno Nacht w/ Charlotte de Witte
LOCATION:De School\, Doctor Jan van Breemenstraat 1\, amsterdam
DESCRIPTION:Dark\, stripped\, driving. Tot zonsopkomst.\n\nLine-up: Charlot
 te de Witte\n\nhttps://eventagenda.com/events/techno-nacht-de-school
URL:https://eventagenda.com/events/techno-nacht-de-school
STATUS:CONFIRMED
CATEGORIES:Electronic
GEO:52.3583;4.846
END:VEVENT
END:VCALENDAR
