BEGIN:VCALENDAR
VERSION:2.0
PRODID:-//EventAgenda//eventagenda.com//NL
CALSCALE:GREGORIAN
METHOD:PUBLISH
X-WR-CALNAME:Events — "Utrecht Jazz Festival — openingsavond"
X-WR-CALDESC:Events — "Utrecht Jazz Festival — openingsavond" — automatisch
  bijgewerkt via EventAgenda. Open infrastructuur voor event-data.
REFRESH-INTERVAL;VALUE=DURATION:PT60M
X-PUBLISHED-TTL:PT60M
BEGIN:VEVENT
UID:e-jazz-festival-utrecht@eventagenda.com
DTSTAMP:20260425T025445Z
DTSTART:20260603T190000Z
DTEND:20260604T000000Z
SUMMARY:Utrecht Jazz Festival — openingsavond
LOCATION:TivoliVredenburg\, Vredenburgkade 11\, utrecht
DESCRIPTION:Meerdere zalen\, internationale line-up.\n\nhttps://eventagenda
 .com/events/jazz-festival-utrecht
URL:https://eventagenda.com/events/jazz-festival-utrecht
STATUS:CONFIRMED
CATEGORIES:Jazz
GEO:52.091;5.119
END:VEVENT
END:VCALENDAR
